BEGIN:VCALENDAR
VERSION:2.0
PRODID:-//NWOC - ECPv6.15.20//NONSGML v1.0//EN
CALSCALE:GREGORIAN
METHOD:PUBLISH
X-ORIGINAL-URL:https://www.nwoc.info
X-WR-CALDESC:Events for NWOC
REFRESH-INTERVAL;VALUE=DURATION:PT1H
X-Robots-Tag:noindex
X-PUBLISHED-TTL:PT1H
BEGIN:VTIMEZONE
TZID:Europe/London
BEGIN:DAYLIGHT
TZOFFSETFROM:+0000
TZOFFSETTO:+0100
TZNAME:BST
DTSTART:20250330T010000
END:DAYLIGHT
BEGIN:STANDARD
TZOFFSETFROM:+0100
TZOFFSETTO:+0000
TZNAME:GMT
DTSTART:20251026T010000
END:STANDARD
BEGIN:DAYLIGHT
TZOFFSETFROM:+0000
TZOFFSETTO:+0100
TZNAME:BST
DTSTART:20260329T010000
END:DAYLIGHT
BEGIN:STANDARD
TZOFFSETFROM:+0100
TZOFFSETTO:+0000
TZNAME:GMT
DTSTART:20261025T010000
END:STANDARD
BEGIN:DAYLIGHT
TZOFFSETFROM:+0000
TZOFFSETTO:+0100
TZNAME:BST
DTSTART:20270328T010000
END:DAYLIGHT
BEGIN:STANDARD
TZOFFSETFROM:+0100
TZOFFSETTO:+0000
TZNAME:GMT
DTSTART:20271031T010000
END:STANDARD
END:VTIMEZONE
BEGIN:VEVENT
DTSTART;TZID=Europe/London:20260521T180000
DTEND;TZID=Europe/London:20260521T200000
DTSTAMP:20260426T031107
CREATED:20260425T160907Z
LAST-MODIFIED:20260425T161554Z
UID:25454-1779386400-1779393600@www.nwoc.info
SUMMARY:Spring Orienteering series #3
DESCRIPTION:Event Location (live map) \n\n\n        Google Maps Wordpress         \n\n\n\n \n\n\n\nParking (and toilets) \n\n\n\n\n\n\n\nParking in in the forest service car park opposite Craig’s Costcutters Supermarket. \n\n\n\n \n\n\n\nStarts are 1830-1900 \n\n\n\nCourses close at 2000 \n\n\n\nCost per map – £5 \n\n\n\nFor full details and pre entry form please follow the link below: \n\n\n\nSpringO#3 – 21st May  Ballykelly Spring Orienteering #3 – Fill in form
URL:https://www.nwoc.info/oevent/spring-orienteering-series-3/
CATEGORIES:Club Event,Training Event
END:VEVENT
END:VCALENDAR