BEGIN:VCALENDAR
VERSION:2.0
PRODID:-//NWOC - ECPv6.15.20//NONSGML v1.0//EN
CALSCALE:GREGORIAN
METHOD:PUBLISH
X-ORIGINAL-URL:https://www.nwoc.info
X-WR-CALDESC:Events for NWOC
REFRESH-INTERVAL;VALUE=DURATION:PT1H
X-Robots-Tag:noindex
X-PUBLISHED-TTL:PT1H
BEGIN:VTIMEZONE
TZID:Europe/London
BEGIN:DAYLIGHT
TZOFFSETFROM:+0000
TZOFFSETTO:+0100
TZNAME:BST
DTSTART:20150329T010000
END:DAYLIGHT
BEGIN:STANDARD
TZOFFSETFROM:+0100
TZOFFSETTO:+0000
TZNAME:GMT
DTSTART:20151025T010000
END:STANDARD
BEGIN:DAYLIGHT
TZOFFSETFROM:+0000
TZOFFSETTO:+0100
TZNAME:BST
DTSTART:20160327T010000
END:DAYLIGHT
BEGIN:STANDARD
TZOFFSETFROM:+0100
TZOFFSETTO:+0000
TZNAME:GMT
DTSTART:20161030T010000
END:STANDARD
BEGIN:DAYLIGHT
TZOFFSETFROM:+0000
TZOFFSETTO:+0100
TZNAME:BST
DTSTART:20170326T010000
END:DAYLIGHT
BEGIN:STANDARD
TZOFFSETFROM:+0100
TZOFFSETTO:+0000
TZNAME:GMT
DTSTART:20171029T010000
END:STANDARD
BEGIN:DAYLIGHT
TZOFFSETFROM:+0000
TZOFFSETTO:+0100
TZNAME:BST
DTSTART:20180325T010000
END:DAYLIGHT
BEGIN:STANDARD
TZOFFSETFROM:+0100
TZOFFSETTO:+0000
TZNAME:GMT
DTSTART:20181028T010000
END:STANDARD
BEGIN:DAYLIGHT
TZOFFSETFROM:+0000
TZOFFSETTO:+0100
TZNAME:BST
DTSTART:20190331T010000
END:DAYLIGHT
BEGIN:STANDARD
TZOFFSETFROM:+0100
TZOFFSETTO:+0000
TZNAME:GMT
DTSTART:20191027T010000
END:STANDARD
BEGIN:DAYLIGHT
TZOFFSETFROM:+0000
TZOFFSETTO:+0100
TZNAME:BST
DTSTART:20200329T010000
END:DAYLIGHT
BEGIN:STANDARD
TZOFFSETFROM:+0100
TZOFFSETTO:+0000
TZNAME:GMT
DTSTART:20201025T010000
END:STANDARD
BEGIN:DAYLIGHT
TZOFFSETFROM:+0000
TZOFFSETTO:+0100
TZNAME:BST
DTSTART:20210328T010000
END:DAYLIGHT
BEGIN:STANDARD
TZOFFSETFROM:+0100
TZOFFSETTO:+0000
TZNAME:GMT
DTSTART:20211031T010000
END:STANDARD
BEGIN:DAYLIGHT
TZOFFSETFROM:+0000
TZOFFSETTO:+0100
TZNAME:BST
DTSTART:20220327T010000
END:DAYLIGHT
BEGIN:STANDARD
TZOFFSETFROM:+0100
TZOFFSETTO:+0000
TZNAME:GMT
DTSTART:20221030T010000
END:STANDARD
BEGIN:DAYLIGHT
TZOFFSETFROM:+0000
TZOFFSETTO:+0100
TZNAME:BST
DTSTART:20230326T010000
END:DAYLIGHT
BEGIN:STANDARD
TZOFFSETFROM:+0100
TZOFFSETTO:+0000
TZNAME:GMT
DTSTART:20231029T010000
END:STANDARD
BEGIN:DAYLIGHT
TZOFFSETFROM:+0000
TZOFFSETTO:+0100
TZNAME:BST
DTSTART:20240331T010000
END:DAYLIGHT
BEGIN:STANDARD
TZOFFSETFROM:+0100
TZOFFSETTO:+0000
TZNAME:GMT
DTSTART:20241027T010000
END:STANDARD
BEGIN:DAYLIGHT
TZOFFSETFROM:+0000
TZOFFSETTO:+0100
TZNAME:BST
DTSTART:20250330T010000
END:DAYLIGHT
BEGIN:STANDARD
TZOFFSETFROM:+0100
TZOFFSETTO:+0000
TZNAME:GMT
DTSTART:20251026T010000
END:STANDARD
BEGIN:DAYLIGHT
TZOFFSETFROM:+0000
TZOFFSETTO:+0100
TZNAME:BST
DTSTART:20260329T010000
END:DAYLIGHT
BEGIN:STANDARD
TZOFFSETFROM:+0100
TZOFFSETTO:+0000
TZNAME:GMT
DTSTART:20261025T010000
END:STANDARD
END:VTIMEZONE
BEGIN:VTIMEZONE
TZID:UTC
BEGIN:STANDARD
TZOFFSETFROM:+0000
TZOFFSETTO:+0000
TZNAME:UTC
DTSTART:20150101T000000
END:STANDARD
END:VTIMEZONE
BEGIN:VEVENT
DTSTART;TZID=Europe/London:20251227T113000
DTEND;TZID=Europe/London:20251227T130000
DTSTAMP:20260422T231806
CREATED:20250924T145135Z
LAST-MODIFIED:20251210T100813Z
UID:25068-1766835000-1766840400@www.nwoc.info
SUMMARY:NWOC Noel Bogle Xmas Event 2025
DESCRIPTION:The Green Bridge in spate\n\n\n\nOur traditional Xmas fun event will be held this year on Saturday 27th December at the Roe Valley Country Park Dogleap Centre Car park. \n\n\n\nRoe Valley Country Park is clearly signposts from the B69 Ballyquin Road just south of Limavady \n\n\n\nStart Times \n\n\n\n11.30 to 12.30. Courses close 13.30 \n\n\n\nCourses\n\n\n\nGreen 5 kmShort Green3.6 kmLight Green 2.4 kmOrange 1.6km\n\n\n\nFor an explanation of the Orienteering Colour Coded courses system please see  Colour Coded Courses \n\n\n\nCost\n\n\n\nSenior Member £8    Non member £10 \n\n\n\nJunior Member £4    Non member  £5 \n\n\n\nA family walking around as a group should book a junior map. £5 per map. \n\n\n\nOnline Entry\n\n\n\n\nPlease enter by 25th December 10:00pm. \n\n\n\n\nEnter Online\n\n\n\nEdit your Entry\n\n\n\nView Entry Lists\n\n\n\n\n\nToilets\n\n\n\nThere are public toilets in the visitor centre building. \n\n\n\nCafe\n\n\n\nAl’s Cafe will be open in the visitor centre for drinks and light meals. \n\n\n\nNWOC AGM\n\n\n\nThe club will hold a short AGM after the event. \n\n\n\nQueries\n\n\n\nAny queries – please use the form below: \n\n\n\n\n\n  \n\n\n\n\n	Contact NWOC\n&nbsp\nYour Name (required)\n \n	 \n	Your Email (required)\n \nYour Query\n \n	 \n	\n	 \n	Name and email address will only be used to respond to your query
URL:https://www.nwoc.info/oevent/nwoc-xmas-event-2025/
CATEGORIES:Club Event,Xmas Event
END:VEVENT
BEGIN:VEVENT
DTSTART;TZID=Europe/London:20251018T103000
DTEND;TZID=Europe/London:20251018T130000
DTSTAMP:20260422T231806
CREATED:20250918T172418Z
LAST-MODIFIED:20251003T112043Z
UID:25043-1760783400-1760792400@www.nwoc.info
SUMMARY:Portglenone Forest Activity
DESCRIPTION:Venue\n\n\n\nPortglenone Forest visitor car park. 1km south of Portglenone on the A42 \n\n\n\n\n\n\n\n\nEvent Location (live map) \n\n\n        Google Maps Wordpress         \n\n\n\n\nParking\n\n\n\nPark on the official car park signposted from the A42. Please note that there is a charge of £5 per car. \n\n\n\nStarts and Timing\n\n\n\nStarts between 11am and 12.15pm. Courses close at 1pm. \n\n\n\nActivities\n\n\n\nIn addition to a map memory training exercise the following courses will be available: \n\n\n\nNameLength LEVELYellow2 – 2.5 kmbeginners course.Orange3-3.5 kmimprovers and GCSE studentsShort Green3 kmexperienced orienteersGreen5 kmexperienced orienteers\n\n\n\nCost\n\n\n\nPrice: £4 per map (you can go round as an individual\, a pair or family group for this price). This activity is free of charge for Orienteering club members. \n\n\n\nRefreshments\n\n\n\nTea/coffee available after the activities. \n\n\n\nToilets\n\n\n\nThere are public toilets adjacent to the car park. \n\n\n\nRegister / Book a Map\n\n\n\nIf you intend to come to the activity please book a map using the link below: \n\n\n\n\nPortglenone Forest Activity Book a Map
URL:https://www.nwoc.info/oevent/portglenone-activity/
CATEGORIES:Club Event,Training Event
END:VEVENT
BEGIN:VEVENT
DTSTART;TZID=Europe/London:20250816T110000
DTEND;TZID=Europe/London:20250816T130000
DTSTAMP:20260422T231806
CREATED:20250528T095859Z
LAST-MODIFIED:20250814T161004Z
UID:24552-1755342000-1755349200@www.nwoc.info
SUMMARY:NW Summer Series #3
DESCRIPTION:Coleraine\, University Sports Pavilion \n\n\n\n\nLive Map\n\n\n        Google Maps Wordpress         \n\n\n\n\n\n\n\n\n16 August – Coleraine\, UU CampusStarts 1100-1300Courses/activities close 1400Car parking\, north entrance\, opposite sports centre.Registration/start/finish next to car park.Newcomer/novice course\, approx. 2k – suitable for newcomers and families.Using real controls and dibbers.Experienced orienteers. Sprint/urban training activity/course. Using real controls and dibbers.Toilets – in sports centre.  Price – Free for members. £5 per map for non-members.\n\n\n\nEnter here \n\n\n\n\n\n\n\nContact Us\n\n\n\n\n\n  \n\n\n\n\n	Contact NWOC\n&nbsp\nYour Name (required)\n \n	 \n	Your Email (required)\n \nYour Query\n \n	 \n	\n	 \n	Name and email address will only be used to respond to your query
URL:https://www.nwoc.info/oevent/nw-summer-series-3/
CATEGORIES:Club Event,Summer Series
END:VEVENT
BEGIN:VEVENT
DTSTART;TZID=Europe/London:20250719T110000
DTEND;TZID=Europe/London:20250719T130000
DTSTAMP:20260422T231806
CREATED:20250528T095719Z
LAST-MODIFIED:20250717T110455Z
UID:24550-1752922800-1752930000@www.nwoc.info
SUMMARY:NW Summer Series #2
DESCRIPTION:Benone Dunes \n\n\n\n\n\n\n\n\n\nParking \n\n\n\nThe parking will be at Benone Leisure Complex. \n\n\n\n\n\n\n\nStarts\n\n\n\n1100-1300 (courses / activities close 1400) \n\n\n\nCourses   \n\n\n\nCourseLengthCommentsGreen           4.5kmexpect to run nearly 6 kmShort Green 3kmthis uses controls 1 -6 and 14 – 25 of the Green courseOrange   2.5km for improving navigatorsYellow 1.7km an extension of the white course\, for beginners and familiesWhite1kmfor beginners and families\n\n\n\nTerrain\n\n\n\nThe orange course will stick mainly to the dune paths while the green courses will make full use of the rolling terrain and mixed vegetation. Leg cover in recommended for runners on these two longer courses. \n\n\n\nCost\n\n\n\nFree for members. £4 per map for non-members. \n\n\n\nEntries / Map Booking\n\n\n\nPlease book a map using the form below as soon as possible. \n\n\n\nToilets\n\n\n\nThere are toilets in the tourist complex building. \n\n\n\nCafe  \n\n\n\nWaves Coffee Shop & Bistro will be open for drink food and ice cream! \n\n\n\n\n\n\n\nEnter / book  Here \n\n\n\nAdditional queries (please use the form link above for entries)\n\n\n\nIf you have any queries please use the form below: \n\n\n\n\n\n  \n\n\n\n\n	Contact NWOC\n&nbsp\nYour Name (required)\n \n	 \n	Your Email (required)\n \nYour Query\n \n	 \n	\n	 \n	Name and email address will only be used to respond to your query
URL:https://www.nwoc.info/oevent/nw-summer-series-2/
CATEGORIES:Club Event,Summer Series
END:VEVENT
BEGIN:VEVENT
DTSTART;TZID=Europe/London:20250614T110000
DTEND;TZID=Europe/London:20250614T130000
DTSTAMP:20260422T231806
CREATED:20250528T094145Z
LAST-MODIFIED:20250605T162825Z
UID:24543-1749898800-1749906000@www.nwoc.info
SUMMARY:NW Summer Series  #1
DESCRIPTION:Portrush – East Strand car park – Urban Event \n\n\n\n\n\n\n\n\n\n\nStarts 1100-1300Courses/activities close 1400Car parking – Portrush East Strand car parkRegistration/start and finish located next to car park. Look out for gazebo/banners.Short course approx. 2k– suitable for young NI members\, newcomers and families. This will use pedestrian areas following the shoreline.Toilets – public toilets situated next to car park.Price – £4 per map.NI Urban League – there will be a pre-entry NI Urban League event running alongside this Summer Series event. The short course will be common to both.\n\n\n\nEnter Here \n\n\n\n\n\n\n\nContact Us\n\n\n\n\n\n  \n\n\n\n\n	Contact NWOC\n&nbsp\nYour Name (required)\n \n	 \n	Your Email (required)\n \nYour Query\n \n	 \n	\n	 \n	Name and email address will only be used to respond to your query
URL:https://www.nwoc.info/oevent/nw-summer-series-one/
CATEGORIES:Club Event,Summer Series
END:VEVENT
BEGIN:VEVENT
DTSTART;TZID=Europe/London:20250405T110000
DTEND;TZID=Europe/London:20250405T130000
DTSTAMP:20260422T231806
CREATED:20250220T102025Z
LAST-MODIFIED:20250328T181333Z
UID:23623-1743850800-1743858000@www.nwoc.info
SUMMARY:Northwest Orienteering Club - Come and Try Orienteering and Club Training at Downhill
DESCRIPTION:NWOC invite you to an orienteering session at Downhill Forest on Sat 5 April. Date: Sat 5 AprilTime: 11am\, meeting near the entrance of the forestParking – Roadside parking available at the Bishops gate entrance and picnic area Activities: There will a number of activities/courses available to suit all ages and levels of experience. 2 newcomer/novice courses available which will be 2-3km. Run or walk\, go round solo or in a group. Enjoy the space at your pace!2 training activities/courses for more experienced orienteers. You will be sure to have a warm welcome from a club coach who will explain the exercise before setting you off.  Enquiries/Registration open 11:00-11:30amCourses close at 1pm. Price: £3 per map (please bring correct change if possible). This activity is free of charge for Orienteering club members.  \n\n\n\nPre-Enter / Book a Map\n\n\n\nPlease use the QR code or link below to tell us you are coming and book a map: \n\n\n\n\n\n\n\n\nBook a Map
URL:https://www.nwoc.info/oevent/northwest-orienteering-club-come-and-try-orienteering-and-club-training-at-downhill/
CATEGORIES:Club Event,Training Event
END:VEVENT
BEGIN:VEVENT
DTSTART;TZID=Europe/London:20241228T110000
DTEND;TZID=Europe/London:20241228T130000
DTSTAMP:20260422T231806
CREATED:20241014T155749Z
LAST-MODIFIED:20241220T133922Z
UID:22567-1735383600-1735390800@www.nwoc.info
SUMMARY:NWOC Xmas Event 2024
DESCRIPTION:Venue: Ballykelly Forest\n\n\n\nGetting there\n\n\n\n\n\n\n\n\n\n\n\n\n\n320 Clooney RdBallykellyLimavadyBT49 9JE \n\n\n\nParking\n\n\n\nParking will be the official forest car park on the south side of the A2 – entrance opposite Craig’s Costcutters. \n\n\n\nOnline Entry\n\n\n\n\nEnter Online\n\n\n\nEdit Entries\n\n\n\nEntry List\n\n\n\n\nEntries close on Friday 27th December at 18.00 (entries limited to 50 maps so enter early to be sure)! \n\n\n\nStarts Times\n\n\n\nStarts from 11:30 to 12:15. \n\n\n\n\nCourses\n\n\n\nGreen4.6km    Markers 1- 23 in orderShort Green3.1km    Markers 1-13 in order followed by 18\, 19 and 23 in orderYellow1.4        Markers 1\, 6\, 8\, 10\, 16\, 19\, and 22Score45 minutes as many markers as you can find in ANY order\n\n\n\nAll competitors will use the same map \n\n\n\nCourses close at 13:45. \n\n\n\n\nEntry Fees\n\n\n\n\nSeniors £7  (non-members £9)    \n\n\n\nJuniors/ Family Group  £4  (non-members £5) per map\n\n\n\n\nFAMILY GROUP:  Just enter one junior name in SI Entries \n\n\n\nMap\n\n\n\nScale 1:5000 5m contours \n\n\n\nToilets\n\n\n\nThere are no toilets adjacent to the event. \n\n\n\nOfficials\n\n\n\n\nOrganiser Ruth Blair\n\n\n\nController: Des Fletcher\n\n\n\nPlanner: David Blair
URL:https://www.nwoc.info/oevent/nwoc-xmas-event-2024/
CATEGORIES:Club Event,Xmas Event
END:VEVENT
BEGIN:VEVENT
DTSTART;TZID=Europe/London:20240914T150000
DTEND;TZID=Europe/London:20240914T163000
DTSTAMP:20260422T231806
CREATED:20240617T121329Z
LAST-MODIFIED:20240902T084200Z
UID:21973-1726326000-1726331400@www.nwoc.info
SUMMARY:Portrush Urban Event
DESCRIPTION:Parking\n\n\n\n\n\n\n\n \n\n\n\nParking will be at West Strand (free car park) accessed via an arch under the railway line off the Portstewart Road. NB this is a different car park from the East Strand Car Park used in our previous Portrush Urban Event in 2022.  \n\n\n\nToilets\n\n\n\nThere are public toilet facilities in the car park. \n\n\n\nFees\n\n\n\n\nJuniors £4 (NIOA members £3)\n\n\n\nFull-time Student £4 (NIOA /BOF/IOA members £3)\n\n\n\nSeniors £9 (NIOA /BOF/IOA members £7)\n\n\n\n\n\nCourses\n\n\n\n\nLong 7.2 km\n\n\n\nMedium 4.5km\n\n\n\nShort 2.1k\n\n\n\n\nNB In line with Urban Orienteering practice the course details will include an optimal route length. Of course this is much longer than the normally quoted straight-line length. \n\n\n\nOpen and Medium are for 16 years plus\, Short is suitable for all\, including under 16s as no main road crossings are involved. All runners must exercise extreme care while crossing public roads. \n\n\n\n\nEntry / Book a Map\n\n\n\nEntries will be on the day\, but please use the form belong to ensure we have a map waiting for you. \n\n\n\n\n\n  \n\n\n\n Your name\n \n \n Your email\n \n \n—Please choose an option—LongMediumShort\n \n Your message - extra maps etc (optional)\n \n \n\n \nName and email address will only be used to respond to any query\n \n\n\n\n\n\n\nStart etc\n\n\n\nStart\, Finish and enquiries/download are at West Strand car park \n\n\n\nStarts will be 15:00-16:00. \n\n\n\nEvent Enquiries \n\n\n\nThese will operate from 14:30. \n\n\n\nHaving entered online you can go directly to the start. Runners who have hired a dipper can collect them from Enquiries. \n\n\n\nElectronic Punching\n\n\n\nSportident Electronic punching with beacon mode enabled for SI Air on all controls but not on the start and finish boxes which must be “dipped” in the traditional manner. Ordinary SI cards will work on all controls as normal. \n\n\n\nPassive SI dippers will be available to borrow at enquiries for those who do not have their own. \n\n\n\nWater\n\n\n\nPlease bring your own water and make sure you are fully hydrated before starting. \n\n\n\nHazards:\n\n\n\n\nAll courses will encounter some road crossings – please take appropriate care.\n\n\n\nThis is a busy public area – please take normal precautions.\n\n\n\n\nEvent Queries\n\n\n\n\n  \n\n\n\n\n	Contact NWOC\n&nbsp\nYour Name (required)\n \n	 \n	Your Email (required)\n \nYour Query\n \n	 \n	\n	 \n	Name and email address will only be used to respond to your query\n	 \n\n\n\n\n\n\n\n\n\n\n\n\nOfficials\n\n\n\n\nOrganiser: Ross Walker\n\n\n\nController\n\n\n\nPlanner
URL:https://www.nwoc.info/oevent/portrush-urban-event/
LOCATION:Portrush West Strand\, Portstewart Road\, Portrush\, BT56 8EG\, United Kingdom
CATEGORIES:Club Event
ORGANIZER;CN="Ross Walker":MAILTO:ross@nwoc.info
END:VEVENT
BEGIN:VEVENT
DTSTART;TZID=Europe/London:20231228T110000
DTEND;TZID=Europe/London:20231228T150000
DTSTAMP:20260422T231806
CREATED:20231113T172253Z
LAST-MODIFIED:20231113T172256Z
UID:21083-1703761200-1703775600@www.nwoc.info
SUMMARY:NWOC Xmas Event 2023
DESCRIPTION:Details to follow
URL:https://www.nwoc.info/oevent/nwoc-xmas-event-2023/
LOCATION:Downhill Forest\, 107 Sea Rd\, Castlerock\, BT51 4TW\, United Kingdom
CATEGORIES:Club Event,Xmas Event
ATTACH;FMTTYPE=image/jpeg:https://www.nwoc.info/wp-content/uploads/2021/04/Downhill-Strand.jpg
END:VEVENT
BEGIN:VEVENT
DTSTART;TZID=Europe/London:20160702T110000
DTEND;TZID=Europe/London:20160702T150000
DTSTAMP:20260422T231806
CREATED:20160626T173302Z
LAST-MODIFIED:20160626T173302Z
UID:839-1467457200-1467471600@www.nwoc.info
SUMMARY:Binevenagh Training Event
DESCRIPTION:Training Event in Binevenagh Forest \nParking at  St Aidan’s Church Car Park \nTime- 11:00 – 15:00 (there will be several exercises planned and a variety of levels). \nPlease fill in the Google Doc if you are planning to come- GOOGLE DOC \nAllan Bogle
URL:https://www.nwoc.info/oevent/binevenagh-training-event/
LOCATION:Binevenagh\, St. Aidan's Church\, Duncrun Road
CATEGORIES:Training Event
ATTACH;FMTTYPE=image/gif:https://www.nwoc.info/wp-content/uploads/2016/04/1sample.gif
END:VEVENT
BEGIN:VEVENT
DTSTART;TZID=Europe/London:20160629T183000
DTEND;TZID=Europe/London:20160629T200000
DTSTAMP:20260422T231806
CREATED:20160627T080247Z
LAST-MODIFIED:20160627T203411Z
UID:853-1467225000-1467230400@www.nwoc.info
SUMMARY:Walworth WES (extra Event)
DESCRIPTION:One more WES evening for 2016 in Walworth Wood (otherwise known as Ballykelly Forest North). Different format with only one type of map to book.\n\nError: Contact form not found.
URL:https://www.nwoc.info/oevent/walworth-wes-extra-event/
LOCATION:Ballykelly Forest\, Ballykelly\, Limavady\, BT49 9JE\, United Kingdom
CATEGORIES:Wed Evening Series
ATTACH;FMTTYPE=image/gif:https://www.nwoc.info/wp-content/uploads/2016/04/2map.gif
ORGANIZER;CN="Anthony McGonigle":MAILTO:Anthony@nwoc.info
END:VEVENT
BEGIN:VEVENT
DTSTART;TZID=Europe/London:20160622T183000
DTEND;TZID=Europe/London:20160622T200000
DTSTAMP:20260422T231806
CREATED:20160615T144937Z
LAST-MODIFIED:20160616T081256Z
UID:792-1466620200-1466625600@www.nwoc.info
SUMMARY:Wed Evening Series - Limavady Grammar School
DESCRIPTION:The next Wednesday evening event will take place alongside the Primary School Championships at Limavady Grammar School Grounds. \nAll are welcome from absolute beginners to experienced veterans. \nCourses\nThere will be 2 courses: \n\nGreen:\nScore:\n\nCosts\n\nAll Runs £2.00\n\nCoaching and advice will be provided by experienced orienteers at the start for anyone that is relatively new to the sport. \nBook a Map\nIf you are coming or need further information please use the form below. Please book a map in advance if possible to help us print the right number! \n\n\n  \n\n\n\nYour Name (required)\n \n\n \nHow many maps?\n \n\n \nAdditional Queries (please include email for reply)\n \n\n \n\n \n\n\n \nIf you have any difficulty with this form please email help@nwoc.info
URL:https://www.nwoc.info/oevent/wed-evening-series-limavady-grammar-school/
LOCATION:Limavady Grammar School\, 3 Ballyquin Rd\, Limavady\, BT49 9ET
CATEGORIES:Club Event,Wed Evening Series
ATTACH;FMTTYPE=image/jpeg:https://www.nwoc.info/wp-content/uploads/2016/06/LGS-1.jpg
END:VEVENT
BEGIN:VEVENT
DTSTART;TZID=UTC:20160622T183000
DTEND;TZID=UTC:20160622T200000
DTSTAMP:20260422T231806
CREATED:20160608T075359Z
LAST-MODIFIED:20160609T165258Z
UID:725-1466620200-1466625600@www.nwoc.info
SUMMARY:Primary Schools' Championships 2016
DESCRIPTION:This year’s Primary Schools’ Championships will be run in the grounds of Limavady Grammar School.  Start will be between  6.30 and 7.30pm and the Presentation of Prizes will take place at 8.15pm. There will be refreshments on the night for all those  who pre-enter. \nCourses: (All suitable for beginners)\n\nA: Girls\, individual or pairs (P6-7)\nB: Boys\, individuals or pairs (P6-7)\nC: Mixed pairs (P6-7)\nD: Parents or Teachers\, individual or pairs\nE: Families (At least two adults and 1 child)\n\nEntry Fees\nAll courses £2 per map \nPrizes\nThere will be prizes for first three places on each course and a trophy for the school with the highest team score. The first ten places on each course will be allocated points\, with first place receiving 10 points\, second 9 points\, etc. The best three scores for each school on each course will then be totalled to give a school team score. \nTeam Entries\nSchool team entries for each course must be emailed to fredcorscadden@yahoo.co.uk by Wednesday 15th June. This is to allow time for the printing of the correct number of maps on special waterproof paper.
URL:https://www.nwoc.info/oevent/wed-evening-event-limavady-grammar-school/
LOCATION:Limavady Grammar School\, 3 Ballyquin Rd\, Limavady\, BT49 9ET
CATEGORIES:Club Event,School Event
ATTACH;FMTTYPE=image/jpeg:https://www.nwoc.info/wp-content/uploads/2016/06/LGS-1.jpg
END:VEVENT
BEGIN:VEVENT
DTSTART;TZID=UTC:20160615T183000
DTEND;TZID=UTC:20160615T200000
DTSTAMP:20260422T231806
CREATED:20160608T072617Z
LAST-MODIFIED:20160609T142606Z
UID:722-1466015400-1466020800@www.nwoc.info
SUMMARY:Wed Evening Series – St.Columb’s Park
DESCRIPTION:The next Wednesday evening event will take place in the fast and furious parkland surrounds that make up St. Columb’s Park. All are welcome from absolute beginners to experienced veterans. \nCourses\nThere will be 2 courses: \n\nGreen: 4.8Km\nScore: As many controls as you can in 45 minutes (20 controls in total)\n\nThe start and finish areas will be located near the Browning Drive (allotment) car park. Runners will be able to start their course from 6.30 till 7.00pm. Courses close at 8.00pm. \nCosts\n\nSeniors: £5.00\nJuniors: £3.00\n\nCoaching and advice will be provided by experienced orienteers at the start for anyone that is relatively new to the sport. There will be ample opportunity to conduct a post mortem with your fellow orienteers after your run. \nBook a Map\nIf you are coming or need further information please use the form below. Please book a map in advance if possible to help us print the right number! \n\n\n  \n\n\n\nYour Name (required)\n \n\n \nHow many maps?\n \n\n \nAdditional Queries (please include email for reply)\n \n\n \n\n \n\n\n \nIf you have any difficulty with this form please email help@nwoc.info
URL:https://www.nwoc.info/oevent/wed-evening-event-st-columbs-park/
LOCATION:St.Columb’s Park\, Browning Drive\, L'Derry\, BT47 6JY\, United Kingdom
CATEGORIES:Wed Evening Series
ATTACH;FMTTYPE=image/gif:https://www.nwoc.info/wp-content/uploads/2016/04/12sample.gif
END:VEVENT
BEGIN:VEVENT
DTSTART;TZID=UTC:20160608T183000
DTEND;TZID=UTC:20160608T200000
DTSTAMP:20260422T231806
CREATED:20160608T071845Z
LAST-MODIFIED:20160609T143108Z
UID:719-1465410600-1465416000@www.nwoc.info
SUMMARY:Wed Evening Series – Ballykelly Forest
DESCRIPTION:The next evening series event will be in Ballykelly Wood (see linked map). NB this event was previously listed as being at Walworth Forest. \nCar parking will be in the Ballykelly forest car park SOUTH of the main Limavady / L’Derry road just outside Ballykelly (Opposite Craig’s Costcutters). This is a different car park and forest from the Walworth Forest further along on the other side of the road. \nStarts from 18.30 and 19.00. Green (3.5km) and Score courses as in previous weeks. \nIf you are coming or need further information please use the form below. Please book a map in advance if possible to help us print the right number! \nBook a Map\n\n\n  \n\n\n\nYour Name (required)\n \n\n \nHow many maps?\n \n\n \nAdditional Queries (please include email for reply)\n \n\n \n\n \n\n\n \nIf you have any difficulty with this form please email help@nwoc.info \n 
URL:https://www.nwoc.info/oevent/wed-evening-event-ballykelly-forest/
LOCATION:Ballykelly Forest\, Ballykelly\, Limavady\, BT49 9JE\, United Kingdom
CATEGORIES:Wed Evening Series
ATTACH;FMTTYPE=image/gif:https://www.nwoc.info/wp-content/uploads/2016/04/17map.gif
END:VEVENT
BEGIN:VEVENT
DTSTART;TZID=UTC:20160601T183000
DTEND;TZID=UTC:20160601T200000
DTSTAMP:20260422T231806
CREATED:20160608T070746Z
LAST-MODIFIED:20160609T142832Z
UID:716-1464805800-1464811200@www.nwoc.info
SUMMARY:Wed Evening Series - University of Ulster\, Coleraine
DESCRIPTION:Never been to University? Now’s your chance! \n \nFor one night only!\nColeraine Uni is open to all who want to come along (Grounds only)\nCourses \n\nScore course – 20 controls in any order\nGreen Course – 4.6km\n\nStarts from 1830\nCourses close at 2000 \nParking\nParking will be at at University Car Park 5 – see campus plan. Be aware there are now parking charges – £0.80 for 2 hours / £1.20 for 3 hours. \nA mixture of University Buildings\, playing fields\, and bits of interspersed forest\, not too technical\, quite flat\, but still challenging\, especially re route choice! \nIf interested in coming along please e-mail fillin the form below (Ideally before Tuesday) to ensure a map: \n\n\n  \n\n\n\nYour Name (required)\n \n\n \nHow many maps?\n \n\n \nAdditional Queries (please include email for reply)
URL:https://www.nwoc.info/oevent/wed-evening-event-university-of-ulster-coleraine/
CATEGORIES:Club Event,Wed Evening Series
END:VEVENT
BEGIN:VEVENT
DTSTART;TZID=UTC:20160525T183000
DTEND;TZID=UTC:20160525T200000
DTSTAMP:20260422T231806
CREATED:20160607T164334Z
LAST-MODIFIED:20160609T142852Z
UID:708-1464201000-1464206400@www.nwoc.info
SUMMARY:Wed Evening Series - Downhill Forest
DESCRIPTION:NB. Change of Venue (was Garvagh)\nStarts will be between 18.30 and 19.00. The markers will be collected at 20.00. \nCourses\n\nScore\nGreen\n\n 
URL:https://www.nwoc.info/oevent/wed-evening-event-downhill-forest/
LOCATION:Garvagh Forest\, Just outside Garvagh on the Main Limavady road\, Garvagh
CATEGORIES:Club Event,Wed Evening Series
END:VEVENT
BEGIN:VEVENT
DTSTART;TZID=UTC:20160518T183000
DTEND;TZID=UTC:20160518T200000
DTSTAMP:20260422T231806
CREATED:20160607T163829Z
LAST-MODIFIED:20160609T142920Z
UID:705-1463596200-1463601600@www.nwoc.info
SUMMARY:Wed Evening Series - Roe Valley Country Park
DESCRIPTION:Starts will be between 18.30 and 19.00. The markers will be collected at 20.00. \nCourses\n\nScore\nGreen\n\n  \nThis will be a Charity Event for Cancer Research
URL:https://www.nwoc.info/oevent/wed-evening-event-roe-valley-country-park/
LOCATION:Roe Valley Country Park\, Off the Main Limavady / Dungiven Road\, Limavady
CATEGORIES:Club Event,Wed Evening Series
ORGANIZER;CN="Anthony McGonigle":MAILTO:Anthony@nwoc.info
END:VEVENT
END:VCALENDAR