BEGIN:VCALENDAR
VERSION:2.0
PRODID:-//NWOC - ECPv6.15.20//NONSGML v1.0//EN
CALSCALE:GREGORIAN
METHOD:PUBLISH
X-ORIGINAL-URL:https://www.nwoc.info
X-WR-CALDESC:Events for NWOC
REFRESH-INTERVAL;VALUE=DURATION:PT1H
X-Robots-Tag:noindex
X-PUBLISHED-TTL:PT1H
BEGIN:VTIMEZONE
TZID:Europe/London
BEGIN:DAYLIGHT
TZOFFSETFROM:+0000
TZOFFSETTO:+0100
TZNAME:BST
DTSTART:20240331T010000
END:DAYLIGHT
BEGIN:STANDARD
TZOFFSETFROM:+0100
TZOFFSETTO:+0000
TZNAME:GMT
DTSTART:20241027T010000
END:STANDARD
BEGIN:DAYLIGHT
TZOFFSETFROM:+0000
TZOFFSETTO:+0100
TZNAME:BST
DTSTART:20250330T010000
END:DAYLIGHT
BEGIN:STANDARD
TZOFFSETFROM:+0100
TZOFFSETTO:+0000
TZNAME:GMT
DTSTART:20251026T010000
END:STANDARD
BEGIN:DAYLIGHT
TZOFFSETFROM:+0000
TZOFFSETTO:+0100
TZNAME:BST
DTSTART:20260329T010000
END:DAYLIGHT
BEGIN:STANDARD
TZOFFSETFROM:+0100
TZOFFSETTO:+0000
TZNAME:GMT
DTSTART:20261025T010000
END:STANDARD
END:VTIMEZONE
BEGIN:VEVENT
DTSTART;TZID=Europe/London:20250614T110000
DTEND;TZID=Europe/London:20250614T130000
DTSTAMP:20260425T115922
CREATED:20250528T094145Z
LAST-MODIFIED:20250605T162825Z
UID:24543-1749898800-1749906000@www.nwoc.info
SUMMARY:NW Summer Series  #1
DESCRIPTION:Portrush – East Strand car park – Urban Event \n\n\n\n\n\n\n\n\n\n\nStarts 1100-1300Courses/activities close 1400Car parking – Portrush East Strand car parkRegistration/start and finish located next to car park. Look out for gazebo/banners.Short course approx. 2k– suitable for young NI members\, newcomers and families. This will use pedestrian areas following the shoreline.Toilets – public toilets situated next to car park.Price – £4 per map.NI Urban League – there will be a pre-entry NI Urban League event running alongside this Summer Series event. The short course will be common to both.\n\n\n\nEnter Here \n\n\n\n\n\n\n\nContact Us\n\n\n\n\n\n  \n\n\n\n\n	Contact NWOC\n&nbsp\nYour Name (required)\n \n	 \n	Your Email (required)\n \nYour Query\n \n	 \n	\n	 \n	Name and email address will only be used to respond to your query
URL:https://www.nwoc.info/oevent/nw-summer-series-one/
CATEGORIES:Club Event,Summer Series
END:VEVENT
END:VCALENDAR