BEGIN:VCALENDAR
VERSION:2.0
PRODID:-//NWOC - ECPv6.15.20//NONSGML v1.0//EN
CALSCALE:GREGORIAN
METHOD:PUBLISH
X-ORIGINAL-URL:https://www.nwoc.info
X-WR-CALDESC:Events for NWOC
REFRESH-INTERVAL;VALUE=DURATION:PT1H
X-Robots-Tag:noindex
X-PUBLISHED-TTL:PT1H
BEGIN:VTIMEZONE
TZID:Europe/London
BEGIN:DAYLIGHT
TZOFFSETFROM:+0000
TZOFFSETTO:+0100
TZNAME:BST
DTSTART:20240331T010000
END:DAYLIGHT
BEGIN:STANDARD
TZOFFSETFROM:+0100
TZOFFSETTO:+0000
TZNAME:GMT
DTSTART:20241027T010000
END:STANDARD
BEGIN:DAYLIGHT
TZOFFSETFROM:+0000
TZOFFSETTO:+0100
TZNAME:BST
DTSTART:20250330T010000
END:DAYLIGHT
BEGIN:STANDARD
TZOFFSETFROM:+0100
TZOFFSETTO:+0000
TZNAME:GMT
DTSTART:20251026T010000
END:STANDARD
BEGIN:DAYLIGHT
TZOFFSETFROM:+0000
TZOFFSETTO:+0100
TZNAME:BST
DTSTART:20260329T010000
END:DAYLIGHT
BEGIN:STANDARD
TZOFFSETFROM:+0100
TZOFFSETTO:+0000
TZNAME:GMT
DTSTART:20261025T010000
END:STANDARD
END:VTIMEZONE
BEGIN:VEVENT
DTSTART;TZID=Europe/London:20251227T113000
DTEND;TZID=Europe/London:20251227T130000
DTSTAMP:20260423T040912
CREATED:20250924T145135Z
LAST-MODIFIED:20251210T100813Z
UID:25068-1766835000-1766840400@www.nwoc.info
SUMMARY:NWOC Noel Bogle Xmas Event 2025
DESCRIPTION:The Green Bridge in spate\n\n\n\nOur traditional Xmas fun event will be held this year on Saturday 27th December at the Roe Valley Country Park Dogleap Centre Car park. \n\n\n\nRoe Valley Country Park is clearly signposts from the B69 Ballyquin Road just south of Limavady \n\n\n\nStart Times \n\n\n\n11.30 to 12.30. Courses close 13.30 \n\n\n\nCourses\n\n\n\nGreen 5 kmShort Green3.6 kmLight Green 2.4 kmOrange 1.6km\n\n\n\nFor an explanation of the Orienteering Colour Coded courses system please see  Colour Coded Courses \n\n\n\nCost\n\n\n\nSenior Member £8    Non member £10 \n\n\n\nJunior Member £4    Non member  £5 \n\n\n\nA family walking around as a group should book a junior map. £5 per map. \n\n\n\nOnline Entry\n\n\n\n\nPlease enter by 25th December 10:00pm. \n\n\n\n\nEnter Online\n\n\n\nEdit your Entry\n\n\n\nView Entry Lists\n\n\n\n\n\nToilets\n\n\n\nThere are public toilets in the visitor centre building. \n\n\n\nCafe\n\n\n\nAl’s Cafe will be open in the visitor centre for drinks and light meals. \n\n\n\nNWOC AGM\n\n\n\nThe club will hold a short AGM after the event. \n\n\n\nQueries\n\n\n\nAny queries – please use the form below: \n\n\n\n\n\n  \n\n\n\n\n	Contact NWOC\n&nbsp\nYour Name (required)\n \n	 \n	Your Email (required)\n \nYour Query\n \n	 \n	\n	 \n	Name and email address will only be used to respond to your query
URL:https://www.nwoc.info/oevent/nwoc-xmas-event-2025/
CATEGORIES:Club Event,Xmas Event
END:VEVENT
END:VCALENDAR