BEGIN:VCALENDAR
VERSION:2.0
PRODID:-//NWOC - ECPv6.15.20//NONSGML v1.0//EN
CALSCALE:GREGORIAN
METHOD:PUBLISH
X-ORIGINAL-URL:https://www.nwoc.info
X-WR-CALDESC:Events for NWOC
REFRESH-INTERVAL;VALUE=DURATION:PT1H
X-Robots-Tag:noindex
X-PUBLISHED-TTL:PT1H
BEGIN:VTIMEZONE
TZID:Europe/London
BEGIN:DAYLIGHT
TZOFFSETFROM:+0000
TZOFFSETTO:+0100
TZNAME:BST
DTSTART:20240331T010000
END:DAYLIGHT
BEGIN:STANDARD
TZOFFSETFROM:+0100
TZOFFSETTO:+0000
TZNAME:GMT
DTSTART:20241027T010000
END:STANDARD
BEGIN:DAYLIGHT
TZOFFSETFROM:+0000
TZOFFSETTO:+0100
TZNAME:BST
DTSTART:20250330T010000
END:DAYLIGHT
BEGIN:STANDARD
TZOFFSETFROM:+0100
TZOFFSETTO:+0000
TZNAME:GMT
DTSTART:20251026T010000
END:STANDARD
BEGIN:DAYLIGHT
TZOFFSETFROM:+0000
TZOFFSETTO:+0100
TZNAME:BST
DTSTART:20260329T010000
END:DAYLIGHT
BEGIN:STANDARD
TZOFFSETFROM:+0100
TZOFFSETTO:+0000
TZNAME:GMT
DTSTART:20261025T010000
END:STANDARD
END:VTIMEZONE
BEGIN:VEVENT
DTSTART;TZID=Europe/London:20251018T103000
DTEND;TZID=Europe/London:20251018T130000
DTSTAMP:20260423T065025
CREATED:20250918T172418Z
LAST-MODIFIED:20251003T112043Z
UID:25043-1760783400-1760792400@www.nwoc.info
SUMMARY:Portglenone Forest Activity
DESCRIPTION:Venue\n\n\n\nPortglenone Forest visitor car park. 1km south of Portglenone on the A42 \n\n\n\n\n\n\n\n\nEvent Location (live map) \n\n\n        Google Maps Wordpress         \n\n\n\n\nParking\n\n\n\nPark on the official car park signposted from the A42. Please note that there is a charge of £5 per car. \n\n\n\nStarts and Timing\n\n\n\nStarts between 11am and 12.15pm. Courses close at 1pm. \n\n\n\nActivities\n\n\n\nIn addition to a map memory training exercise the following courses will be available: \n\n\n\nNameLength LEVELYellow2 – 2.5 kmbeginners course.Orange3-3.5 kmimprovers and GCSE studentsShort Green3 kmexperienced orienteersGreen5 kmexperienced orienteers\n\n\n\nCost\n\n\n\nPrice: £4 per map (you can go round as an individual\, a pair or family group for this price). This activity is free of charge for Orienteering club members. \n\n\n\nRefreshments\n\n\n\nTea/coffee available after the activities. \n\n\n\nToilets\n\n\n\nThere are public toilets adjacent to the car park. \n\n\n\nRegister / Book a Map\n\n\n\nIf you intend to come to the activity please book a map using the link below: \n\n\n\n\nPortglenone Forest Activity Book a Map
URL:https://www.nwoc.info/oevent/portglenone-activity/
CATEGORIES:Club Event,Training Event
END:VEVENT
END:VCALENDAR