BEGIN:VCALENDAR
VERSION:2.0
PRODID:-//NWOC - ECPv6.15.20//NONSGML v1.0//EN
CALSCALE:GREGORIAN
METHOD:PUBLISH
X-ORIGINAL-URL:https://www.nwoc.info
X-WR-CALDESC:Events for NWOC
REFRESH-INTERVAL;VALUE=DURATION:PT1H
X-Robots-Tag:noindex
X-PUBLISHED-TTL:PT1H
BEGIN:VTIMEZONE
TZID:Europe/London
BEGIN:DAYLIGHT
TZOFFSETFROM:+0000
TZOFFSETTO:+0100
TZNAME:BST
DTSTART:20230326T010000
END:DAYLIGHT
BEGIN:STANDARD
TZOFFSETFROM:+0100
TZOFFSETTO:+0000
TZNAME:GMT
DTSTART:20231029T010000
END:STANDARD
BEGIN:DAYLIGHT
TZOFFSETFROM:+0000
TZOFFSETTO:+0100
TZNAME:BST
DTSTART:20240331T010000
END:DAYLIGHT
BEGIN:STANDARD
TZOFFSETFROM:+0100
TZOFFSETTO:+0000
TZNAME:GMT
DTSTART:20241027T010000
END:STANDARD
BEGIN:DAYLIGHT
TZOFFSETFROM:+0000
TZOFFSETTO:+0100
TZNAME:BST
DTSTART:20250330T010000
END:DAYLIGHT
BEGIN:STANDARD
TZOFFSETFROM:+0100
TZOFFSETTO:+0000
TZNAME:GMT
DTSTART:20251026T010000
END:STANDARD
END:VTIMEZONE
BEGIN:VEVENT
DTSTART;TZID=Europe/London:20240914T150000
DTEND;TZID=Europe/London:20240914T163000
DTSTAMP:20260425T235611
CREATED:20240617T121329Z
LAST-MODIFIED:20240902T084200Z
UID:21973-1726326000-1726331400@www.nwoc.info
SUMMARY:Portrush Urban Event
DESCRIPTION:Parking\n\n\n\n\n\n\n\n \n\n\n\nParking will be at West Strand (free car park) accessed via an arch under the railway line off the Portstewart Road. NB this is a different car park from the East Strand Car Park used in our previous Portrush Urban Event in 2022.  \n\n\n\nToilets\n\n\n\nThere are public toilet facilities in the car park. \n\n\n\nFees\n\n\n\n\nJuniors £4 (NIOA members £3)\n\n\n\nFull-time Student £4 (NIOA /BOF/IOA members £3)\n\n\n\nSeniors £9 (NIOA /BOF/IOA members £7)\n\n\n\n\n\nCourses\n\n\n\n\nLong 7.2 km\n\n\n\nMedium 4.5km\n\n\n\nShort 2.1k\n\n\n\n\nNB In line with Urban Orienteering practice the course details will include an optimal route length. Of course this is much longer than the normally quoted straight-line length. \n\n\n\nOpen and Medium are for 16 years plus\, Short is suitable for all\, including under 16s as no main road crossings are involved. All runners must exercise extreme care while crossing public roads. \n\n\n\n\nEntry / Book a Map\n\n\n\nEntries will be on the day\, but please use the form belong to ensure we have a map waiting for you. \n\n\n\n\n\n  \n\n\n\n Your name\n \n \n Your email\n \n \n—Please choose an option—LongMediumShort\n \n Your message - extra maps etc (optional)\n \n \n\n \nName and email address will only be used to respond to any query\n \n\n\n\n\n\n\nStart etc\n\n\n\nStart\, Finish and enquiries/download are at West Strand car park \n\n\n\nStarts will be 15:00-16:00. \n\n\n\nEvent Enquiries \n\n\n\nThese will operate from 14:30. \n\n\n\nHaving entered online you can go directly to the start. Runners who have hired a dipper can collect them from Enquiries. \n\n\n\nElectronic Punching\n\n\n\nSportident Electronic punching with beacon mode enabled for SI Air on all controls but not on the start and finish boxes which must be “dipped” in the traditional manner. Ordinary SI cards will work on all controls as normal. \n\n\n\nPassive SI dippers will be available to borrow at enquiries for those who do not have their own. \n\n\n\nWater\n\n\n\nPlease bring your own water and make sure you are fully hydrated before starting. \n\n\n\nHazards:\n\n\n\n\nAll courses will encounter some road crossings – please take appropriate care.\n\n\n\nThis is a busy public area – please take normal precautions.\n\n\n\n\nEvent Queries\n\n\n\n\n  \n\n\n\n\n	Contact NWOC\n&nbsp\nYour Name (required)\n \n	 \n	Your Email (required)\n \nYour Query\n \n	 \n	\n	 \n	Name and email address will only be used to respond to your query\n	 \n\n\n\n\n\n\n\n\n\n\n\n\nOfficials\n\n\n\n\nOrganiser: Ross Walker\n\n\n\nController\n\n\n\nPlanner
URL:https://www.nwoc.info/oevent/portrush-urban-event/
LOCATION:Portrush West Strand\, Portstewart Road\, Portrush\, BT56 8EG\, United Kingdom
CATEGORIES:Club Event
ORGANIZER;CN="Ross Walker":MAILTO:ross@nwoc.info
END:VEVENT
END:VCALENDAR