BEGIN:VCALENDAR
VERSION:2.0
PRODID:-//wp-events-plugin.com//7.2.3.1//EN
TZID:Europe/London
X-WR-TIMEZONE:Europe/London
BEGIN:VEVENT
UID:56@nwoc.info
DTSTART;TZID=Europe/London:20190608T110000
DTEND;TZID=Europe/London:20190608T113000
DTSTAMP:20190513T191947Z
URL:https://www.nwoc.info/events/saturday-morning-one-2018/
SUMMARY:Saturday Morning One 2019 - Downhill Forest
DESCRIPTION:Downhill Forest – 8th June 2019\n\nStart Times\nStarts will b
 e from 11.00 to 11:30 am.\nParking\nParking will be in the layby / picnic 
 area opposite the Bishops Gate on the south side of the A2.\nCourses\nTher
 e will be two courses available. The first will be a score event where com
 petitor will have 45 minutes to visit as many control points as possible. 
 This will be suitable for those new to Orienteering. The second course wil
 l consist of 20 controls which must be visited in a fixed order (approxima
 te length about 4km).\nEquipment\nThe only equipment needed is outdoor clo
 thing and a pair of trainers / running shoes.\nCosts\nCost is £4 per adul
 t\, £2 per child and £10 for a family\nBook a Map\n[contact-form-7 id="8
 54" title="Book a Map (one course)"]\n\n&nbsp\;\n\n&nbsp\;
CATEGORIES:Evening Family Event
LOCATION:Downhill Forest\, 11-15 Mussenden Road\, Castlerock\, BT51 4SB\, N
 orthern Ireland
GEO:55.159428;-6.809511
X-APPLE-STRUCTURED-LOCATION;VALUE=URI;X-ADDRESS=11-15 Mussenden Road\, Cast
 lerock\, BT51 4SB\, Northern Ireland;X-APPLE-RADIUS=100;X-TITLE=Downhill F
 orest:geo:55.159428,-6.809511
END:VEVENT
BEGIN:VTIMEZONE
TZID:Europe/London
X-LIC-LOCATION:Europe/London
BEGIN:DAYLIGHT
DTSTART:20190331T020000
TZOFFSETFROM:+0000
TZOFFSETTO:+0100
TZNAME:BST
END:DAYLIGHT
END:VTIMEZONE
END:VCALENDAR